BEGIN:VCALENDAR
VERSION:2.0
PRODID:-//eventon.com NONSGML v1.0//EN
CALSCALE:GREGORIAN
METHOD:PUBLISH
BEGIN:VEVENT
UID:69e74cb8d4014
DTSTAMP:20260421T100856Z
DTSTART:20260328T090000Z
DTEND:20260329T150000Z
LOCATION:
SUMMARY:Deel van jou\,  deel van mij
DESCRIPTION:Deel van jou\,  deel van mij\nhttps://www.manjakamman.nl/events
 /deel-van-jou-deel-van-mij/
URL:https://www.manjakamman.nl/events/deel-van-jou-deel-van-mij/
END:VEVENT
END:VCALENDAR